BEGIN:VCALENDAR
VERSION:2.0
PRODID:icalendar-ruby
CALSCALE:GREGORIAN
METHOD:PUBLISH
BEGIN:VEVENT
DTSTAMP:20260419T212027Z
UID:155-643854@fellowshipetobicoke.com
DTSTART:20260814T134500Z
DTEND:20260814T154500Z
CLASS:PUBLIC
CREATED:20260419T135519
DESCRIPTION:New walkers always welcome! Meet in front of the church before 
 9:45 AM (9:00 AM during the summer months). We walk for up to an hour\, an
 d all fitness levels are accommodated. Then we enjoy refreshments and good
  conversation for an hour or so.  No fees and no reservations required. 
  TTC bus 50 and MiWay buses 20 &amp\; 26 at the front door. Plenty of par
 king behind the building. 
LAST-MODIFIED:20260419T135519
LOCATION:800 Burnhamthorpe Rd.\, Front Lawn
SUMMARY:Time for Exercise
URL;VALUE=URI:https://www.fellowshipetobicoke.com/events/time-for-exercise/
 2026-08-14
ATTACH;FILENAME=90561533_10158333979949180_1437594982117539840_n-%281%29.jp
 g;FMTTYPE=image/jpeg:https://dq5pwpg1q8ru0.cloudfront.net/2023/07/25/14/01
 /09/f0f2bd61-7689-4499-a53e-83abe5943a90/90561533_10158333979949180_143759
 4982117539840_n-%25281%2529.jpg
END:VEVENT
END:VCALENDAR
